BEGIN:VCALENDAR
VERSION:2.0
PRODID:spatie/icalendar-generator
DESCRIPTION:Veranstaltungen von Schützenverein Edelweiss Meitingen
X-WR-CALDESC:Veranstaltungen von Schützenverein Edelweiss Meitingen
REFRESH-INTERVAL;VALUE=DURATION:PT1440M
X-PUBLISHED-TTL:PT1440M
BEGIN:VTIMEZONE
TZID:Europe/Berlin
BEGIN:STANDARD
DTSTART:20251026T030000Z
TZOFFSETFROM:+0200
TZOFFSETTO:+0100
END:STANDARD
BEGIN:DAYLIGHT
DTSTART:20260329T020000Z
TZOFFSETFROM:+0100
TZOFFSETTO:+0200
END:DAYLIGHT
END:VTIMEZONE
BEGIN:VTIMEZONE
TZID:UTC
BEGIN:STANDARD
DTSTART:20250726T085524Z
TZOFFSETFROM:+0000
TZOFFSETTO:+0000
END:STANDARD
END:VTIMEZONE
BEGIN:VEVENT
UID:1595-11
DTSTAMP:20260422T085524Z
SUMMARY:Gau-RWK 2025/2026 - C-Klasse 2 - Ritterburg Bocksberg vs. Edelweiß
  Meitingen - Runde 9
LOCATION:Schützenverein Ritterburg Bocksberg e.V. Am Steinanger 1  Laugne 
  86502
ORGANIZER;CN=waldemar:MAILTO:waldemar.noll@gmail.com
DTSTART;TZID=Europe/Berlin:20260410T183000
DTEND;TZID=Europe/Berlin:20260410T213000
X-ALT-DESC;FMTTYPE=TEXT/HTML:
CATEGORIES:General
URL;VALUE=URI:https://www.edelweiss-meitingen.de/mc-events/gau-rwk-2025-202
 6-c-klasse-2-ritterburg-bocksberg-vs-edelweiss-meitingen-runde-9
METHOD:PUBLISH
END:VEVENT
END:VCALENDAR